BEGIN:VCALENDAR
VERSION:2.0
PRODID:-//FAMPA - ECPv6.15.10//NONSGML v1.0//EN
CALSCALE:GREGORIAN
METHOD:PUBLISH
X-WR-CALNAME:FAMPA
X-ORIGINAL-URL:https://fampa.es
X-WR-CALDESC:Eventos para FAMPA
REFRESH-INTERVAL;VALUE=DURATION:PT1H
X-Robots-Tag:noindex
X-PUBLISHED-TTL:PT1H
BEGIN:VTIMEZONE
TZID:Europe/Madrid
BEGIN:DAYLIGHT
TZOFFSETFROM:+0100
TZOFFSETTO:+0200
TZNAME:CEST
DTSTART:20250330T010000
END:DAYLIGHT
BEGIN:STANDARD
TZOFFSETFROM:+0200
TZOFFSETTO:+0100
TZNAME:CET
DTSTART:20251026T010000
END:STANDARD
BEGIN:DAYLIGHT
TZOFFSETFROM:+0100
TZOFFSETTO:+0200
TZNAME:CEST
DTSTART:20260329T010000
END:DAYLIGHT
BEGIN:STANDARD
TZOFFSETFROM:+0200
TZOFFSETTO:+0100
TZNAME:CET
DTSTART:20261025T010000
END:STANDARD
BEGIN:DAYLIGHT
TZOFFSETFROM:+0100
TZOFFSETTO:+0200
TZNAME:CEST
DTSTART:20270328T010000
END:DAYLIGHT
BEGIN:STANDARD
TZOFFSETFROM:+0200
TZOFFSETTO:+0100
TZNAME:CET
DTSTART:20271031T010000
END:STANDARD
END:VTIMEZONE
BEGIN:VEVENT
DTSTART;VALUE=DATE:20260509
DTEND;VALUE=DATE:20260510
DTSTAMP:20260420T162039
CREATED:20260325T100505Z
LAST-MODIFIED:20260325T100505Z
UID:1568-1778284800-1778371199@fampa.es
SUMMARY:XXVI Concentración de FAMPA en Pola de Laviana
DESCRIPTION:
URL:https://fampa.es/event/xxvi-concentracion-de-fampa-en-pola-de-laviana/
END:VEVENT
BEGIN:VEVENT
DTSTART;VALUE=DATE:20260803
DTEND;VALUE=DATE:20260804
DTSTAMP:20260420T162039
CREATED:20260325T100747Z
LAST-MODIFIED:20260325T100747Z
UID:1570-1785715200-1785801599@fampa.es
SUMMARY:Día de FAMPA en FIDMA - Recinto de la Feria Internacional de Muestras de Asturias.
DESCRIPTION:
URL:https://fampa.es/event/dia-de-fampa-en-fidma-recinto-de-la-feria-internacional-de-muestras-de-asturias/
END:VEVENT
END:VCALENDAR